Workbook

Sheet ZIADOST
B3: Žiadosť o poskytnutie pomoci formou voucher poukážky na grantové odborné poradenstvo za účelom zapojenia MSP do komunitárnych programov EÚ
B4: Žiadosť: | E4: Žiadosť o poskytnutie pomoci formou voucher poukážky na grantové odborné poradenstvo za účelom zapojenia MSP do komunitárnych programov EÚ
B5: Program: | E5: Program Slovensko SK - EFRR/KF/FST/ESF+
B6: Priorita: | E6: Veda, výskum a inovácie
B7: Špecifický cieľ: | E7: RSO1.1 Rozvoj a rozšírenie výskumných a inovačných kapacít a využívania pokročilých technológií (EFRR)
B8: Názov projektu: | E8: Horizontálna podpora malého a stredného podnikania
B9: Kód projektu: | E9: ITMS+21401101A322
B10: Aktivita: | E10: Aktivita 2
B11: Opatrenie: | E11: Podpora medzinárodnej spolupráce v oblasti výskumu, vývoja a inovácií
B12: Schéma: | E12: Schéma minimálnej pomoci na horizontálnu podporu malého a stredného podnikania v SR z prostriedkov Programu Slovensko 2021 - 2027 (DM – 19/2024)
B13: Komponent: | E13: 1 - Podnikateľský voucher
B14: Link: | E14: https://bit.ly/Schéma_minimálnej_pomoci
B16: Základné informácie o Žiadateľovi
B17: Obchodné meno *
B18: test s.r.o.
B20: IČO*
B21: 123456789
B23: DIČ*
B26: IČ DPH*
B29: Sídlo žiadateľa (ulica a číslo) *
B32: Obec *
B35: PSČ*
B38: Kraj *
B41: Dátum vzniku resp. prvého zápisu do OR SR, ŽR SR, iného registra oprávňujúceho na podnikanie*
B44: Štatutárny orgán/konajúci *
B47: Spôsob konania štatutárneho orgánu v mene spoločnosti (podľa OR SR)*
B50: Právna forma *
B51: Označte iba jednu odpoveď.
C52: Fyzická osoba – podnikateľ
C53: Právnická osoba napr. s.r.o., a.s., j.s.a., k.s. .
C54: Iné | D54: (napíšte aká...............)
B56: Webstránka firmy/produktu resp. služby *
B59: Overenie Žiadateľa ako malého a stredného podniku (MSP)
B60: Aký ste podnik (podľa definície MSP) *
B61: Pre potreby overenia, či Žiadateľ spĺňa definíciu MSP (malého a stredného podniku) je potrebné definovať, o aký typ podniku ide. Podrobná definícia typov podnikov pre potreby overenia sa nachádza v Príručke pre používateľov definície MSP (ďalej len „Príručka“) dostupnej na https://www.npc.sk/media/uploads/files/Definicia_MSP_2020.pdf.
B62: Označte iba jednu odpoveď.
C63: Mikropodnik - Podnik, ktorý zamestnáva menej ako 10 osôb a ktorého ročný obrat a/alebo celková ročná súvaha nepresahuje 2 mil. EUR.
C64: Malý podnik - Podnik, ktorý zamestnáva menej ako 50 osôb a ktorého ročný obrat a/alebo celková ročná súvaha nepresahuje 10 mil. EUR.
C65: Stredný podnik - Podnik, ktorý zamestnáva menej ako 250 osôb a ktorého ročný obrat nepresahuje 50 mil. EUR a/alebo celková ročná súvaha nepresahuje 43 mil. EUR.
B67: Hlavný predmet podnikania podľa SK NACE (viď účtovná závierka)*
...

Sheet PRILOHA 1
B3: Projektový zámer k poskytnutiu pomoci formou voucher poukážky na grantové odborné poradenstvo za účelom zapojenia MSP do komunitárnych programov EÚ
B4: Žiadosť: | E4: Žiadosť o poskytnutie pomoci formou voucher poukážky na grantové odborné poradenstvo za účelom zapojenia MSP do komunitárnych programov EÚ
B5: Program: | E5: Program Slovensko SK - EFRR/KF/FST/ESF+
B6: Priorita: | E6: Veda, výskum a inovácie
B7: Špecifický cieľ: | E7: RSO1.1 Rozvoj a rozšírenie výskumných a inovačných kapacít a využívania pokročilých technológií (EFRR)
B8: Názov projektu: | E8: Horizontálna podpora malého a stredného podnikania
B9: Kód projektu: | E9: ITMS+21401101A322
B10: Aktivita: | E10: Aktivita 2
B11: Opatrenie: | E11: Podpora medzinárodnej spolupráce v oblasti výskumu, vývoja a inovácií
B12: Schéma: | E12: Schéma minimálnej pomoci na horizontálnu podporu malého a stredného podnikania v SR z prostriedkov Programu Slovensko 2021 - 2027 (DM – 19/2024)
B13: Komponent: | E13: 1 - Podnikateľský voucher
B14: Link: | E14: https://bit.ly/Schéma_minimálnej_pomoci
B16: Základné informácie o Žiadateľovi
B17: Obchodné meno *
B18: =ZIADOST!B18 -> test s.r.o.
B19: IČO*
B20: =ZIADOST!B21 -> 123456789
B22: Názov komunitárneho programu /výzvy EÚ, do ktorého sa plánujete zapojiť *
B23: (Uveďte názov programu / číslo výzvy / prípadne link.)
B26: Overili ste si, či je Váš podnik oprávneným žiadateľom v rámci výzvy a zvoleného komunitárneho programu EÚ? *
B29: V rámci výzvy do komunitárneho programu EÚ plánujete predložiť *
B32: Máte už skúsenosti s podaním projektovej žiadosti/prihlášky do niektorého z komunitárnych programov EÚ? *
B35: V prípade, ak ste v predchádzajúcej otázke odpovedali "áno", uveďte, či Vaša projektová žiadosť/prihláška bola úspešná, a do ktorého komunitárneho programu ste sa zapojili?
B38: V prípade, ak ste v predchádzajúcej otázke uviedli nie, snažili ste sa v rámci vlastnej iniciatívy oboznámiť s náležitosťami výzvy, do ktorej sa plánujete zapojiť.
B41: Uveďte termín uzávierky výzvy na predkladanie žiadostí/prihlášok do zvoleného komunitárneho programu? V prípade ak je výzvy viazaná na cut-off, uveďte do ktorého sa chcete zapojiť. Uveďte termín, do kedy je výzva otvorená. *
B45: Základné informácie o žiadateľovi:
B46: Žiadateľ doplní informácie o podniku, predmet podnikania, štruktúru riadenia
B49: Uveďte názov projektu + akronym *
B52: 1. POPIS PODNIKANIA
... B113: Za žiadateľa:
B115: V: | F115: dňa:
B116: Meno a priezvisko konajúceho:
B117: Podpis konajúceho:

Sheet PRILOHA 2
B3: Predpokladaný rozsah a odhad ceny Grantového odborného poradenstva za účelom zapojenia MSP do komunitárnch programov EÚ
B4: Žiadosť: | E4: Žiadosť o poskytnutie pomoci formou voucher poukážky na grantové odborné poradenstvo za účelom zapojenia MSP do komunitárnych programov EÚ
B5: Program: | E5: Program Slovensko SK - EFRR/KF/FST/ESF+
B6: Priorita: | E6: Veda, výskum a inovácie
B7: Špecifický cieľ: | E7: RSO1.1 Rozvoj a rozšírenie výskumných a inovačných kapacít a využívania pokročilých technológií (EFRR)
B8: Názov projektu: | E8: Horizontálna podpora malého a stredného podnikania
B9: Kód projektu: | E9: ITMS+21401101A322
B10: Aktivita: | E10: Aktivita 2
B11: Opatrenie: | E11: Podpora medzinárodnej spolupráce v oblasti výskumu, vývoja a inovácií
B12: Schéma: | E12: Schéma minimálnej pomoci na horizontálnu podporu malého a stredného podnikania v SR z prostriedkov Programu Slovensko 2021 - 2027 (DM – 19/2024)
B13: Komponent: | E13: 1 - Podnikateľský voucher
B14: Link: | E14: https://bit.ly/Schéma_minimálnej_pomoci
B16: Obchodné meno *
B17: =ZIADOST!B18 -> test s.r.o.
B18: IČO*
B19: =ZIADOST!B21 -> 123456789
B21: Názov predmetu zákazky: Poskytnutie Grantového odborného poradenstva za účelom zapojenia MSP do komunitárnch programova EÚ.
B22: Opis
B23: Predmetom zákazky je poskytnutie poradenstva súvisiaceho s prípravou projektovej žiadosti do vybraného komunitárneho programu EU.
B25: Základné informácie o žiadateľovi (doplňte) *
B26: Žiadateľ doplní informácie o podniku, predmet podnikania, štruktúru riadenia, počet zamestnancov.
B28: Detailný opis projektového zámeru, ktorý bude predmetom Grantového odborného poradenstva *
B29: Žiadateľ popíše projekt a uvedie názov programu, do ktorého má zámer sa zapojiť + názov výzvy ak je to relevantné
B32: 1. Uveďte jednotlivé obsahové činnosti/aktivity zámer | E32: Trvanie/Rozsah | F32: Podklady/poznámky | K32: Cena bez DPH
B33: 1. (aktivita/popis aktivity napr. príprava projektovej žiadosti)
B34: 2. (aktivita/popis aktivity napr. príprava pitch-deck)
B35: 3. (aktivita/popis aktivity napr. príprava prezentácie tímu)
B36: 4. (aktivita/popis aktivity)
B37: 5. (aktivita/popis aktivity)
B38: 6. (aktivita/popis aktivity)
B39: 7. (aktivita/popis aktivity)
B40: 8. (aktivita/popis aktivity)
B41: 9. (aktivita/popis aktivity)
B42: 10. (aktivita/popis aktivity)
B43: 2.Záverečný výstup z poskytnutia/vytvorenia Grantového odborného poradenstva / Projektovej žiadosti (Správa z Grantového odborného poradenstva) | K43: Cena bez DPH
B44: Správa z Grantového odborného poradenstva, t. j záverečný písomný výstup vyhotovený vybraným dodávateľom s nasledovnými podmienkami: - projektový návrh vrátane príloh odovzdaný v rozsahu, ktorý zodpovedá podmienkam podania projektového návrhu do výzvy komunitárneho programu EÚ špecifikovaného v Žiadosti o poskytnutie pomoci formou voucher poukážky na Grantové odborné poradenstvo za účelom zapojenia MSP do komunitárnych programov EÚ, - obsahuje štruktúrovane usporiadané informácie, ktoré reflektujú podmienky vybranej výzvy
B45: Celková cena v EUR bez DPH*
B46: 23% DPH v EUR*:
B47: Celková cena v EUR s DPH:
B48: *Vyplní Uchádzač, ak je relevantné. V prípade, že Uchádzač nie je platca DPH, informáciu uvedie pod tabuľku.
...

Sheet PRILOHA 3
B3: Vyhlásenia a súhlasy
B4: Žiadosť: | E4: Žiadosť o poskytnutie pomoci formou voucher poukážky na grantové odborné poradenstvo za účelom zapojenia MSP do komunitárnych programov EÚ
B5: Program: | E5: Program Slovensko SK - EFRR/KF/FST/ESF+
B6: Priorita: | E6: Veda, výskum a inovácie
B7: Špecifický cieľ: | E7: RSO1.1 Rozvoj a rozšírenie výskumných a inovačných kapacít a využívania pokročilých technológií (EFRR)
B8: Názov projektu: | E8: Horizontálna podpora malého a stredného podnikania
B9: Kód projektu: | E9: ITMS+21401101A322
B10: Aktivita: | E10: Aktivita 2
B11: Opatrenie: | E11: Podpora medzinárodnej spolupráce v oblasti výskumu, vývoja a inovácií
B12: Schéma: | E12: Schéma minimálnej pomoci na horizontálnu podporu malého a stredného podnikania v SR z prostriedkov Programu Slovensko 2021 - 2027 (DM – 19/2024)
B13: Komponent: | E13: 1 - Podnikateľský voucher
B14: Link: | E14: https://bit.ly/Schéma_minimálnej_pomoci
B16: Obchodné meno *
B17: =ZIADOST!B18 -> test s.r.o.
B18: IČO*
B19: =ZIADOST!B21 -> 123456789
B79: Za žiadateľa:
B81: V: | F81: dňa:
B82: Meno a priezvisko konajúceho:
B83: Podpis konajúceho:
C409: TRUE

Sheet PRILOHA 4
B3: GDPR
B4: Žiadosť: | E4: Žiadosť o poskytnutie pomoci formou voucher poukážky na grantové odborné poradenstvo za účelom zapojenia MSP do komunitárnych programov EÚ
B5: Program: | E5: Program Slovensko SK - EFRR/KF/FST/ESF+
B6: Priorita: | E6: Veda, výskum a inovácie
B7: Špecifický cieľ: | E7: RSO1.1 Rozvoj a rozšírenie výskumných a inovačných kapacít a využívania pokročilých technológií (EFRR)
B8: Názov projektu: | E8: Horizontálna podpora malého a stredného podnikania
B9: Kód projektu: | E9: ITMS+21401101A322
B10: Aktivita: | E10: Aktivita 2
B11: Opatrenie: | E11: Podpora medzinárodnej spolupráce v oblasti výskumu, vývoja a inovácií
B12: Schéma: | E12: Schéma minimálnej pomoci na horizontálnu podporu malého a stredného podnikania v SR z prostriedkov Programu Slovensko 2021 - 2027 (DM – 19/2024)
B13: Komponent: | E13: 1 - Podnikateľský voucher
B14: Link: | E14: https://bit.ly/Schéma_minimálnej_pomoci
B16: Obchodné meno *
B17: =ZIADOST!B18 -> test s.r.o.
B18: IČO*
B19: =ZIADOST!B21 -> 123456789
B42: Za žiadateľa:
B44: V: | F44: dňa:
B45: Meno a priezvisko konajúceho:
B46: Podpis konajúceho:

Sheet zoznamy
A1: 1.Poľnohospodárstvo, lesníctvo a rybolov
A2: 2.Ťažba a dobývanie
A3: 3.Priemyselná výroba
A4: 4.Dodávka elektriny plynu, pary a studeného vzduchu
A5: 5.Dodávka vody, čistenie a odvod odpadových vôd, odpady a služby odstraňovania odpadov
A6: 6.Stavebníctvo
A7: 7.Veľkoobchod a maloobchod, oprava motorových vozidiel a motocyklov
A8: 8.Doprava a skladovanie
A9: 9.Ubytovacie a stravovacie služby
A10: 10.Informácie a komunikácia
A11: 11.Finančné a poisťovacie služby
A12: 12.Činnosť v oblasti nehnuteľností
... A44: Aktualizovaný projekt

Sheet export dat
A1: Účel 1 | B1: Účel 2 | C1: Celkový navrhovaný/odhadovaný počet hodín | D1: Obchodné meno * | E1: Sídlo žiadateľa (ulica a číslo) * | F1: PSČ* | G1: Obec * | H1: Kraj | I1: IČO* | J1: Číslo registrácie IČ DPH | K1: URL firmy: | L1: banka | M1: Právna forma - FO | N1: Právna forma - PO | O1: Ine | P1: Rok vzniku | Q1: Miesto podnikania a adresa prevádzkarne, | R1: Druh rodinného podniku (podľa definície MSP) -mikro | S1: Druh rodinného podniku (podľa definície MSP) -malý | T1: Druh rodinného podniku (podľa definície MSP) -stredný | U1: SK NACE | V1: Uveďte akým spôsobom konajú členovia štatutárneho orgánu za príjemcu pomoci | W1: Štatutárny zástupca 1/meno a priezvisko štatutárneho zástupcu podľa OR SR | X1: Štatutárny zástupca 1/ rodné číslo * | Y1: Štatutárny zástupca 1/ trvalý pobyt (ulica č./mesto/PSČ) * | Z1: Štatutárny zástupca 2/ meno a priezvisko štatutárneho zástupcu podľa OR SR | AA1: Štatutárny zástupca 2/ rodné číslo | AB1: Štatutárny zástupca 2/ trvalý pobyt (ulica č./mesto/PSČ) | AC1: Štatutárny zástupca 3/ meno a priezvisko štatutárneho zástupcu podľa OR SR | AD1: Štatutárny zástupca 3/ rodné číslo | AE1: Štatutárny zástupca 3/ trvalý pobyt (ulica č./mesto/PSČ) | AF1: Štatutárny zástupca 4/ meno a priezvisko štatutárneho zástupcu podľa OR SR | AG1: Štatutárny zástupca 4/ rodné číslo | AH1: Štatutárny zástupca 4/ trvalý pobyt (ulica č./mesto/PSČ) | AI1: Aký ste podnik? Samostatný | AJ1: Aký ste podnik? Prepojený | AK1: Aký ste podnik? Partnerský | AL1: Počet pracovníkov (ročná pracovná jednotka) * | AM1: Obrat (v EUR)* | AN1: Uveďte členov rodiny, ktorí tvoria rodinný podnik | AO1: Člen rodiny č.1 vzťah k rodine * | AP1: Člen rodiny č.1 meno a priezvisko * | AQ1: Člen rodiny č.1 dátum narodenia a bydlisko * | AR1: Člen rodiny č.1 funkcia resp.pracovná pozícia (príklad konateľ, spoločník, atď...) * | AS1: Člen rodiny č.2 vzťah k rodine * | AT1: Člen rodiny č. 2 meno a priezvisko * | AU1: Člen rodiny č.2 dátum narodenia a bydlisko * | AV1: Člen rodiny č. 2 funkcia resp.pracovná pozícia (príklad konateľ, spoločník atď.....) * | AW1: Člen rodiny č.3 vzťah k rodine | AX1: Člen rodiny č. 3 meno a priezvisko | AY1: Člen rodiny č.3 dátum narodenia a bydlisko | AZ1: Člen rodiny č. 3 funkcia resp.pracovná pozícia (príklad konateľ, spoločník atď.....) | BA1: Ďalší členovia rodiny: meno a priezvisko, vzťah k rodine a pracovná pozícia | BB1: Uvedené fyzické osoby spájajú nasledujúce väzby / Pokrvné | BC1: Uvedené fyzické osoby spájajú nasledujúce väzby / Rozhodnutím súdu alebo zákonom adopcia, manželstvo | BD1: Uvedené fyzické osoby spájajú nasledujúce väzby / Osobné a vzájomné väzby -druh, družka | BE1: Uvedené fyzické osoby spájajú nasledujúce väzby (označte relevantné) / Iné | BF1: Ktorú z nasledujúcich podmienok spĺňate? /Jeden člen alebo viacerí vlastnia viac ako 50 % podielov, hlasov alebo akcií v podniku | BG1: Ktorú z nasledujúcich podmienok spĺňate? /Jeden člen alebo viacerí vlastnia v podniku taký podiel, počet hlasov alebo akcií, že sú schopní presadiť svoju vôľu | BH1: Ktorú z nasledujúcich podmienok spĺňate? /Jeden člen alebo viacerí vykonávajú kontrolné funkcie | BI1: Ktorú z nasledujúcich podmienok spĺňate? /Jeden člen alebo viacerí vykonávajú riadiace funkcie | BJ1: Zodpovedný zástupca rodinného podniku (meno a priezvisko) | BK1: Kontaktná osoba - meno a priezvisko | BL1: Funkcia kontaktnej osoby * | BM1: Telefón kontaktnej osoby * | BN1: Email kontaktnej osoby | BO1: Vyhlasujem, že údaje uvedené v Žiadosti sú pravdivé, presné a úplné. * | BP1: Týmto udeľujem SBA súhlas na zasielanie marketing. informácií a

Sheet Inštrukcie
A1: Krátke inštrukcie
A2: 1. Vpisujte dáta iba do označených polí
A3: 2. Názvy polí a hárkov tj nadpisy sú nemenné.
A4: 3. Vyberajte iba z predvolených zoznamov v bunkách.
A5: 4. Polia s hviezdičkou sú povinné polia, polia bez hviezdičky vyplňte, ak sa vás týkajú
A6: 5. Bunky je možné roztiahnuť a text zalomit v prípade dlhého textu
