Workbook

Sheet Inštrukcie
A1: Krátke inštrukcie
A2: 1. Vpisujte dáta iba do označených polí.
A3: 2. Názvy polí a hárkov, tj. nadpisy sú nemenné.
A4: 3. Vyberajte iba z predvolených zoznamov v bunkách.
A5: 4. Polia s hviezdičkou sú povinné polia, polia bez hviezdičky vyplňte, ak sa vás týkajú.
A6: 5. Bunky je možné roztiahnuť a text zalomiť v prípade dlhého textu.
A7: 6. Vyplnenú žiadosť spolu s povinnými prílohami exportujte samostatne do jednotlivých PDF s názvami podľa názvu jednotlivých hárkov. Postup: Súbor - exportovať - vytvoriť dokument PDF.
A8: 7. Polia resp. predvyplnené texty nemažte a nemeňte.
A9: 8. Tlač/export hárkov do PDF zrealizujte tak, aby boli čitateľné a vyexportované iba relevantné vyplnené časti hárku tj. neexportujte resp. netlačte prázdne strany.
A10: 9. Ak máte Macbook, odporúčame vyplniť excel cez Google Disk - Tabuľky.
A11: 10. V prípade problémov s vypĺňaním žiadosti a príloh pred odoslaním kontaktuje telefonicky/mailom zodpovedného manažéra programu +421 2 203 63 122 resp. staze@sbagency.sk.

Sheet Formulár Žiadosti
B3: Žiadosť o poskytnutie podpory v rámci Schémy minimálnej pomoci na podporu startupov
B4: Právny základ: | E4: Schéma minimálnej pomoci na podporu startupov v úplnom znení
B5: Poradové číslo: (prosíme nevypĺňať) | G5: Dátum doručenia Žiadosti: (miesto pre úradný záznam)
B7: Formulár Žiadosti je kompletný, ak sú vyplnené všetky povinné polia. Povinné polia sú označené*
B8: Komponent (K1, K2, K3)*
B9: Komponent 3
B10: Názov aktivity/projektu*
B13: Obchodné meno žiadateľa/Názov*
B16: Sídlo/Miesto podnikania žiadateľa (ulica, číslo)*
B19: Obec*
B22: PSČ*
B25: Okres*
B27: Kraj (vyplňte kliknutím)*
B30: Adresa prevádzkarne, ak je zriadená
B33: Právna forma (vyplňte kliknutím)*
B35: Ak ste vyplnili Iné | H35: (napíšte aká...............)
B37: Druh podniku (podľa definície MSP) - vyplňte kliknutím* (Pre potreby overenia, či žiadateľ spĺňa definíciu MSP (mikropodniku, malého alebo stredného podniku), je potrebné definovať, o aký typ podniku ide. Podrobná definícia typov podnikov pre potreby overenia sa nachádza v Príručke pre používateľov definície MSP dostupnej na: https://bit.ly/Definicia_MSP)
B40: IČO (právnické osoby, fyzické osoby - podnikatelia)*
B43: Číslo registrácie IČ DPH
B46: Štatutárny orgán (Meno a priezvisko štatutárneho orgánu alebo členov štatutárneho orgánu, alebo meno a priezvisko zodpovedného zástupcu, ak je ustanovený)*
B49: Štatutárny orgán (Spôsob, akým bude za prijímateľa konať podľa ORSR)*
B52: Štatutárny orgán (Rodné číslo štatutárneho orgánu alebo členov štatutárneho orgánu)*
B55: Štatutárny orgán (Trvalý pobyt štatutárneho orgánu alebo členov štatutárneho orgánu)*
B58: Kontaktná osoba (Meno, priezvisko, funkcia)*
B61: Telefón kontaktnej osoby*
B64: E-mail kontaktnej osoby*
B67: Druh nepriamej formy podpory a vymedzenie účelu, na ktorý sa požaduje*
B68: Voucher na stážový pobyt
... B73: Za žiadateľa:
B75: V: | F75: dňa:
B76: Meno a priezvisko konajúceho:
B77: Podpis konajúceho1:
B79: 1 V prípade, že ma spoločnosť v ORSR zapísaných viacero štatutárnych zástupcov, ale majú nastavené samostatné konanie Žiadosť a vyhlásenia podáva a podpisuje za spoločnosť jeden zo štatutárov, v prípade spoločného konania podávajú Žiadosť a vyhlásenia na samostatnom tlačive každý z uvedených štatutárnych zástupcov podľa pravidla v ORSR.
B80: Žiadosť a vyhlásenia po vyplnení, ešte nepodpísané, pošlite v súbore .xlsx na email: staze@sbagency.sk, následne všetko uložte vo formáte pdf., podpíšte KEPom alebo vytlačte, vlastnoručne podpíšte a naskenujte. Podpísanú verziu pošlite na email: staze@sbagency.sk alebo prostredníctvom portálu www.slovensko.sk, počas temínu podávania Žiadostí o poskytnutie podpory v rámci Komponentu 3 Schémy minimálnej pomoci na podporu startupov
B82: Prílohy:
B83: − Vyhlásenia žiadateľa o splnení podmienok poskytnutia pomoci v rámci Schémy minimálnej pomoci na podporu startupov;
B84: − Vyhlásenie k spracúvaniu osobných údajov v rámci Schémy minimálnej pomoci na podporu startupov;
B85: − iné prílohy uvedené v konkrétnej výzve a/alebo implementačnom manuáli.
B138: Názov aktivity | C138: =B11 -> 0
B139: Obchodné meno * | C139: =B14 -> 0
...

Sheet Formulár Informácie
B1: Informácie o podniku potrebné k overeniu oprávnenosti žiadateľa
B2: Žiadosť: | C2: Žiadosť o poskytnutie podpory v rámci Komponentu 3 (Voucher na stážový pobyt) Schémy minimálnej pomoci na podporu startupov
B4: Obchodné meno/Názov žiadateľa*
B5: ='Formulár Žiadosti'!B14 -> 0
B6: IČO*
B7: ='Formulár Žiadosti'!B41 -> 0
B9: Počet pracovníkov (ročná pracovná jednotka) za rok 2025 a ak ste novozaložený podnik od 1.1.2026 - uveďte kvalifikovaný odhad na obdobie roka 2026*
B10: Uveďte priemerný počet pracovníkov, ktorí pracovali vo Vašom podniku ku dňu zostavenia účtovnej závierky v predchádzajúcom období (napr. k 31. 12. 2025) na plný pracovný čas alebo čiastkový pracovný čas. Ide najmä o zamestnancov, dohodárov, vlastníkov, manažérov a pod. Ak ste ešte účtovnú závierku k danému obdobiu nezostavovali, uveďte kvalifikovaný odhad tejto hodnoty. Spôsob výpočtu ročnej pracovnej jednotky nájdete na https://bit.ly/Definicia_MSP
B13: Ročný obrat za rok 2025 a ak ste novozaložený podnik od 1.1.2026 - uveďte kvalifikovaný odhad na obdobie roka 2026*
B14: Presné informácie nájdete viď. http://www.registeruz.sk (v prípade, že zverejňujete účtovnú závierku). Uveďte výšku obratu Vášho podniku ku dňu zostavenia účtovnej závierky v predchádzajúcom období (napr. k 31. 12. 2025). Ak ste ešte účtovnú závierku za spomínané obdobie nezostavovali, uveďte kvalifikovaný odhad tejto hodnoty. Aké hodnoty je potrebné uviesť v položke obrat nájdete https://bit.ly/Definicia_MSP
B17: Celková ročná bilančná suma (aktíva) za rok 2025 a ak ste novozaložený podnik od 1.1.2026 - uveďte kvalifikovaný odhad na obdobie roka 2026*
B23: V: | C23: ='Formulár Žiadosti'!C75 -> 0 | F23: dňa: | G23: ='Formulár Žiadosti'!G75 -> 0
B25: Meno a priezvisko: | E25: ='Formulár Žiadosti'!E76 -> 0
B26: Podpis dotknutej osoby:
C132: v listinnej podobe
C133: v elektronickej podobe t.j. kvalifikovaným elektronickým podpisom/zaručeným elektronickým podpisom (KEP/ZEP)
C135: Počet pracovníkov (ročná pracovná jednotka) | D135: =B11 -> 0
C136: Ročný obrat za rok 2024 a odhad 2025 | D136: =B15 -> 0
C137: Celková ročná bilančná suma(aktíva) za rok 2024 a odhad 2025 | D137: =B18 -> 0
C138: de minimis plan | D138: =#REF! -> #REF!

Sheet zoznamy
A1: 1.Poľnohospodárstvo, lesníctvo a rybolov
A2: 2.Ťažba a dobývanie
A3: 3.Priemyselná výroba
A4: 4.Dodávka elektriny plynu, pary a studeného vzduchu
A5: 5.Dodávka vody, čistenie a odvod odpadových vôd, odpady a služby odstraňovania odpadov
A6: 6.Stavebníctvo
A7: 7.Veľkoobchod a maloobchod, oprava motorových vozidiel a motocyklov
A8: 8.Doprava a skladovanie
A9: 9.Ubytovacie a stravovacie služby
A10: 10.Informácie a komunikácia
A11: 11.Finančné a poisťovacie služby
A12: 12.Činnosť v oblasti nehnuteľností
... A56: nie

Sheet export dat
A1: ziadost: | B1: Obchodné meno * | C1: IČO* | D1: DIČ | E1: IČ DPH | F1: Sídlo žiadateľa (ulica a číslo) * | G1: Obec * | H1: PSČ* | I1: Kraj | J1: Dátum vzniku | K1: Štatutárny orgán/konajúci | L1: Spôsob konania štatutárneho orgánu v mene spoločnosti (podľa OR SR)* | M1: Právna forma - FO | N1: Právna forma - PO | O1: Ine | P1: Druh podniku -mikro | Q1: Druh podniku -malý | R1: Druh podniku -stredný | S1: SK NACE | T1: Počet pracovníkov (ročná pracovná jednotka) | U1: Ročný obrat za rok 2024 a odhad 2025 | V1: Celková ročná bilančná suma(aktíva) za rok 2024 a odhad 2025 | W1: Kontaktná osoba - meno a priezvisko | X1: Funkcia kontaktnej osoby * | Y1: Telefón kontaktnej osoby * | Z1: Email kontaktnej osoby | AA1: KEP/ZEP/list | AB1: Meno a priezvisko účastníka č. 1 | AC1: E-mail účastníka č. 1 | AD1: Meno a priezvisko účastníka č. 2 | AE1: E-mail účastníka č. 2 | AF1: Vyhlasenie prac. Pravny vztah | AG1: Názov Kurzu | AH1: Dátum
A2: Žiadosť o poskytnutie pomoci formou Skupinového poradenstva - Kurz podnikateľských zručností | B2: 0 | C2: 0 | D2: 0 | E2: neeviduje sa | F2: 0 | G2: 0 | H2: 0 | I2: 0 | J2: 0 | K2: 0 | L2: N/A | M2: TRUE | N2: TRUE | O2: TRUE | P2: TRUE | Q2: TRUE | R2: TRUE | S2: 0 | T2: 0 | U2: 0 | V2: 0 | W2: 0 | X2: 0 | Y2: 0 | Z2: 0 | AA2: 0 | AB2: 0 | AC2: 0 | AD2: 0 | AE2: 0 | AF2: 0 | AG2: 0 | AH2: 0

Sheet Príloha č. 1 Projektový zámer
B1: PROJEKTOVÝ ZÁMER PODNIKATEĽA/MSP Žiadateľ je povinný uviesť všetky údaje, komisia zohľadňuje detailnosť a úplnosť informácií, preto prosím žiadosť a projektový zámer vypĺňajte dôsledne.
B2: Príloha k žiadosti o poskytnutie podpory v rámci Schémy minimálnej pomoci na podporu startupov – Komponent 3 (Voucher na stážový pobyt)
B5: I. Informácie o žiadateľovi
B6: Názov/obchodné meno, právna forma:
B7: ='Formulár Žiadosti'!B14 -> 0
B8: IČO:
B9: ='Formulár Žiadosti'!B41 -> 0
B10: Dátum zápisu do OR/ŽR SR:
B12: URL firmy, príp. startupu:
B14: Celkový počet členov projektového tímu:
B16: Ak máte už aj zamestnancov, uveďte ich počet:
B20: II. INFORMÁCIE O STARTUPE
B21: Názov startupu (ak je iný ako názov spoločnosti):
B23: Popis myšlienky produktu/služby (stručne popíšte Váš produkt/službu, aký problém a potrebu chcete riešiť na trhu):
B25: Popíšte, v čom je Váš produkt či služba technologicky výnimočná a unikátna? (Čím sa odlišujete od konkurencie?)
B28: Popíšte, v akom štádiu sa Váš produkt/služba nachádza?
A29: ☐ | B29: nápad
A30: ☐ | B30: spracovaná štúdia realizovateľnosti
A31: ☐ | B31: spracovaná podkladová dokumentácia k produktu/službe
A32: ☐ | B32: beta verzia
A33: ☐ | B33: prototyp
A34: ☐ | B34: produkt
A35: ☐ | B35: iné (uveďte):
B39: Stručne uveďte základné funkcie a technológie, ktoré sú už spracované a funkčné a ktoré produkt využíva. Uveďte, čo je potrebné dovyvíjať alebo modernizovať k plnému využitiu produktu:
B41: Je produkt/služba dokončená a pripravená k predaju? Ak áno, kedy bude uvedená na trh? Ak nie, na aké časové obdobie odhadujete vývoj produktu a uvedenie na trh?
B43: Zákazníci a odberatelia (definujte cieľovú skupinu odberateľov, platiacich zákazníkov, koncového používateľa):
B45: Generujete za daný produkt/službu zisky? Máte platiacich zákazníkov? (Ak áno, uveďte počet platiacich zákazníkov):
B47: Popis a analýza trhu (charakterizujte Váš cieľový trh a Váš očakávaný podiel na trhu, bariéry vstupu na trh):
B49: Na ktoré zahraničné trhy sa Vaša spoločnosť zameriava, resp. sa chce zamerať?
B51: Kto je Vaša konkurencia na Slovensku a v zahraničí? Akú máte oproti nim konkurenčnú výhodu?
B53: Popíšte Váš biznis plán (predajný a distribučný model):
B55: Aká je/bude cena produktu/služby?
B57: Riziká (charakterizujte, aké najčastejšie riziká sa môžu vyskytnúť pri realizovaní Vášho projektového zámeru):
B61: III. INFORMÁCIE O STÁŽOVOM/TRÉNINGOVOM POBYTE
B62: Čo je Vašou hlavnou motiváciou pre absolvovanie Stáže?
... B71: Mám záujem o voucher na zabezpečenie (vyberte ľubovolný počet možností) :
A72: ☐ | B72: stážového alebo tréningového pobytu
A73: ☐ | B73: ubytovacích služieb
A74: ☐ | B74: dopravy/prepravy
B77: Na Stáži sa budú za prijímateľa zúčastňovať:
...

Sheet Príloha č. 2 Ponuka na stáž(SK)
B1: PONUKA NA STÁŽ OD DODÁVATEĽA
B2: Príloha k žiadosti o poskytnutie podpory v rámci Schémy minimálnej pomoci na podporu startupov – Komponent 3 (Voucher na stážový pobyt)
B4: Názov inštitúcie, ktorá Stáž zabezpečí a v ktorej sa bude Stáž konať
B6: Web stránka inštitúcie
B8: Miesto konania Stáže
B10: Dátum konania Stáže (od - do)
B13: Prehľad poskytnutých služieb v rámci Stáže
B14: Kliknite na políčko ☐ vľavo a vyberte ☒ pre zaškrtnutie.
A16: ☐ | B16: Zabezpečenie prenájmu kancelárskych priestorov, zasadačiek a vybavenia pre všetkých vyslaných zástupcov žiadateľa
A18: ☐ | B18: Poskytnutie skupinových podporných služieb (napríklad podujatia, webináre a i.)
B19: a) v rozsahu hodín:
A21: ☐ | B21: Poskytnutie individuálnych podporných služieb
B22: a) v rozsahu hodín:
B24: b) obsahové zameranie:
A26: ☐ | B26: Sprostredkovanie návštevy lokálnych inštitúcií (napr. technologické a inovačné parky, kampusy, inkubátory, univerzity a i.)
B27: a) počet plánovaných návštev:
B29: b) názvy inštitúcií, ktoré plánujete navštíviť:
A31: ☐ | B31: Iné služby
B32: a) popis iných služieb:
B35: Stáž bude prebiehať:
A36: ☐ | B36: online | D36: ☐ | E36: fyzicky | G36: ☐ | H36: kombinovane
B38: V prípade kombinovane, uveďte, ktoré služby budú prebiehať online a ktoré fyzicky:
B40: Predchádzajúce skúsenosti inštitúcie, ktorá Stáž zabezpečí a v ktorej sa bude Stáž konať:
B43: Finančné podmienky absolvovania Stáže:
B44: a) storno podmienky v prípade neúčasti?
B46: b) budú vystavené zálohové faktúry a v akej sume?
B48: c) bude vystavená faktúra až po absolvovaní Stáže?
B50: d) sú predmetom fakturácie aj iné typy poplatkov (napríklad service fee) a v akej sume?
B53: Celková cena Stáže za všetkých vyslaných zástupcov žiadateľa
B54: bez DPH/cena celkom:
B56: s DPH :
B59: VYHLÁSENIE DODÁVATEĽA STÁŽE
B61: Dole podpísaný Dodávateľ:
... B85: Dodávateľ:
B86: V: | F86: dňa:
B89: Podpis (príp. pečiatka)

Sheet Príloha č. 3 Ponuka na stáž(EN)
B1: INTERNSHIP INFORMATION
B2: Annex to the Application for Support under the Minimum Aid Scheme for Startup Support – Component 3 (Internship Voucher)
B4: Name of the institution providing and hosting the Internship
B6: Institution's website
B8: Place of the Internship
B10: Internship period (from – to)
B13: Overview of services provided within the Internship
B14: Click the ☐ box on the left and select ☒ to check it.
A16: ☐ | B16: Provision of office space, meeting rooms, and equipment for all dispatched representatives of the applicant
A18: ☐ | B18: Provision of group support services (e.g. events, webinars, etc.)
B19: a) total number of hours:
A21: ☐ | B21: Provision of individual support services
B22: a) total number of hours:
B24: b) thematic focus:
A26: ☐ | B26: Arrangement of visits to local institutions such as technology and innovation parks, campuses, incubators, universities, etc.
B27: a) number of planned visits:
B29: b) names of institutions to be visited:
A31: ☐ | B31: Other services
B32: a) description of other services:
B35: The Internship will take place:
A36: ☐ | B36: online | D36: ☐ | E36: in person | G36: ☐ | H36: hybrid (combined)
B38: If hybrid, please specify which services will take place online and which in person:
B40: Previous experience of the institution providing and hosting the Internship:
B43: Financial conditions of the Internship:
B44: a) cancellation policy in case of non-participation?
B46: b) will advance invoices be issued and in what amount?
B48: c) will the invoice be issued only after the Internship completion?
B50: d) are other types of fees (e.g. service fees) subject to invoicing, and in what amount?
B53: Total price of the Internship for all dispatched representatives of the applicant*
B54: without VAT / total price:
B56: with VAT:
B59: DECLARATION OF THE INTERNSHIP SUPPLIER
B61: The undersigned Supplier:
... B89: Supplier:
B90: In: | F90: on:
B93: Signature (and stamp, if applicable)

Sheet Príloha č. 4 Vyhlásenie 
B1: VYHLÁSENIE ŽIADATEĽA O PRÁVACH VIAŽUCICH SA K PROJEKTU
B2: k Výzve na predkladanie žiadostí o poskytnutie podpory v rámci Schémy minimálnej pomoci na podporu startupov (Komponent 1, Komponent 2 a Komponent 3) a Programu na podporu startupov (Komponent 1 a Komponent 2) (ďalej len „Výzva“)
B4: V tejto súvislosti ako žiadateľ v zmysle časti 2 Výzvy týkajúcej sa Komponentu 3 Schémy minimálnej pomoci na podporu startupov (DM - 49/2024) v úplnom znení (ďalej len „Schéma“):
B6: Názov/Obchodné meno:
B7: ='Formulár Žiadosti'!B14 -> 0
B8: IČO:
B9: ='Formulár Žiadosti'!B41 -> 0
B10: Štatutárny orgán:
B11: ='Formulár Žiadosti'!B47 -> 0
B12: záväzne vyhlasujem, že:
B14: • podnikateľský nápad alebo projekt, ktorý je súčasťou Žiadosti o poskytnutie podpory v rámci Komponentu 3 Schémy vrátane príloh (ďalej len „Žiadosť“) a s ktorým sa ako žiadateľ uchádzam o účasť na podpore v rámci Komponentu 3 Schémy (ďalej len „Projekt“) je Projektom žiadateľa, resp. žiadateľ je oprávneným držiteľom a/alebo vykonávateľom práv viažucim sa k Projektu; • Projekt neobsahuje žiadne skutočnosti, ktoré môžu bez právneho dôvodu zasiahnuť do práv a právom chránených záujmov iných osôb alebo by mohli byť v rozpore s dobrými mravmi; • Projekt nemá žiadne právne vady, najmä sa naň neviažu žiadne práva iných osôb; • všetky žiadateľom poskytnuté údaje sú úplné a pravdivé a ako žiadateľ som si vedomý právnych dôsledkov v prípade uvedenia neúplných, resp. nepravdivých údajov.
B17: V: | C17: ='Formulár Žiadosti'!C75 -> 0 | F17: dňa: | G17: ='Formulár Žiadosti'!G75 -> 0
B21: podpis štatutárneho orgánu žiadateľa/žiadateľa

Sheet Príloha č. 5 Vyhlásenie 
B1: Vyhlásenia žiadateľa o splnení podmienok poskytnutia pomoci v rámci Schémy minimálnej pomoci na podporu startupov
B3: Žiadosť: | C3: Žiadosť o poskytnutie podpory v rámci Komponentu 3 (Voucher na stážový pobyt) Schémy minimálnej pomoci na podporu startupov
B5: Obchodné meno/Názov žiadateľa*
B6: ='Formulár Žiadosti'!B14 -> 0
B7: IČO*
B8: ='Formulár Žiadosti'!B41 -> 0
B10: Príloha je kompletná, ak sú zaškrtnuté všetky povinné vyhlásenia. Povinné vyhlásenia sú označené *.
B13: V rámci vyhlásenia bod 1. a 2. uveďte iba 1 skutočnosť podľa aktuálneho stavu (vyplňte kliknutím)
C14: *1. Ako žiadateľ v rámci Schémy minimálnej pomoci na podporu startupov v úplnom znení (ďalej len „žiadateľ“) týmto vyhlasujem, že nepatrím do skupiny podnikov, ktoré tvoria jediný podnik podľa článku 2 odsek 2 Nariadenia komisie (EÚ) 2023/2831 z 13. decembra 2023 o uplatňovaní článkov 107 a 108 Zmluvy o fungovaní Európskej únie na pomoc de minimis v platnom znení (ďalej len „nariadenie č. 2023/2831“).
B15: ALEBO
C16: *2. Ako žiadateľ patriaci do skupiny podnikov, ktoré tvoria jediný podnik podľa článku 2 odsek 2 nariadenia č. 2023/2831, predkladám, za účelom overenia stropu pomoci, identifikáciu subjektov, ktoré so žiadateľom tvoria jediný podnik podľa článku 2 odsek 2 nariadenia č. 2023/2831.*
B18: Obchodné meno podniku | E18: Sídlo / miesto podnikania | J18: IČO
B24: Bod č. 3 Vyhlásenia sa použije výlučne v prípade skupiny podnikov
C25: 3. Ako žiadateľ patriaci do skupiny podnikov, ktoré tvoria jediný podnik podľa článku 2 odsek 2 nariadenia č. 2023/2831 týmto vyhlasujem, že sa voči členom skupiny podnikov, ktoré so žiadateľom tvoria jediný podnik podľa článku 2 odsek 2 nariadenia č. 2023/2831 neuplatňuje vrátenie štátnej pomoci na základe rozhodnutia Európskej komisie, v ktorom bola táto štátna pomoc označená za neoprávnenú a nezlučiteľnú s vnútorným trhom.*
C27: *4. Ako žiadateľ týmto vyhlasujem, že pomoc nebude použitá v odvetviach hospodárstva, na ktoré sa pomoc v súlade s ustanovením článku 1 odsek 1 nariadenia č. 2023/2831 nevzťahuje, a to: a) v oblasti prvovýroby produktov rybolovu a akvakultúry; b) v oblasti spracovania a marketingu produktov rybolovu a akvakultúry, ak je výška pomoci stanovená na základe ceny alebo množstva kúpených výrobkov alebo výrobkov uvedených na trh; c) v poľnohospodárskej prvovýrobe; d) v oblasti spracovania a marketingu poľnohospodárskych výrobkov, a to v jednom z týchto prípadov: (i) ak je výška pomoci stanovená na základe ceny alebo množstva takýchto výrobkov kúpených od prvovýrobcov alebo uvedených na trh príslušnými podnikmi, (ii) ak je pomoc podmienená tým, že bude čiastočne alebo úplne postúpená prvovýrobcom; e) na činnosti súvisiace s vývozom do tretích krajín alebo členských štátov, konkrétne pomoc priamo súvisiacu s vyvážanými množstvami, pomoc na zriadenie a prevádzkovanie distribučnej sústavy alebo na iné bežné výdavky súvisiace s vývoznou činnosťou; f) v prípade pomoci, ktorá je podmienená uprednostňovaním používania domácich výrobkov a služieb pred dovážanými.
C29: *5. Ako žiadateľ týmto vyhlasujem, že pomoc bude použitá v rozsahu pôsobnosti Schémy minimálnej pomoci na podporu startupov v úplnom znení.
C31: *6. Ako žiadateľ týmto informujem, že v čase podania Žiadosti o poskytnutie podpory v rámci Schémy minimálnej pomoci na podporu startupov v úplnom znení (ďalej len „žiadosť“) žiadateľ nežiada o inú minimálnu pomoc aj od iného poskytovateľa pomoci, v rámci iných schém minimálnej pomoci, prípadne sa ako žiadateľ zaväzujem, že ak by žiadateľ takúto (inú) žiadosť predložil v čase posudzovania žiadosti, budem o tejto skutočnosti informovať vykonávateľa. V prípade, ak v čase podania žiadosti žiadate o inú minimálnu pomoc aj od iného poskytovateľa, v rámci iných schém uveďte poskytovateľa pomoci a výšku poskytovanej pomoci: Poskytovateľ: Suma:
C33: *7. Ako žiadateľ týmto vyhlasujem, že žiadateľ spĺňa status mikropodniku, malého alebo stredného podniku v zmysle definície uvedenej v prílohe I. nariadenia Komisie (EÚ) č. 651/2014 zo 17. júna 2014 o vyhlásení určitých kategórií pomoci za zlučiteľné s vnútorným trhom podľa článkov 107 a 108 zmluvy v platnom znení.
C35: *8. Ako žiadateľ týmto vyhlasujem, že sa voči žiadateľovi neuplatňuje vrátenie štátnej pomoci na základe rozhodnutia Európskej komisie, v ktorom bola táto štátna pomoc označená za neoprávnenú a nezlučiteľnú s vnútorným trhom.
C37: *9. Ako žiadateľ týmto vyhlasujem, že žiadateľ je podnikateľom podľa ustanovenia § 2 odsek 2 zákona č. 513/1991 Zb. Obchodný zákonník v znení neskorších predpisov, založeným a existujúcim podľa práva Slovenskej republiky, so sídlom a/alebo miestom podnikania na území Slovenskej republiky
C39: *10. Ako žiadateľ (právnická osoba oprávnená vykonávať podnikateľskú činnosť) týmto vyhlasujem, že žiadateľ nebol právoplatne odsúdený v zmysle zákona č. 91/2016 Z. z. o trestnej zodpovednosti právnických osôb a o zmene a doplnení niektorých zákonov v znení neskorších predpisov.
C41: *11. Ako žiadateľ (fyzická osoba oprávnená vykonávať podnikateľskú činnosť) týmto vyhlasujem, že žiadateľ nebol právoplatne odsúdený za trestný čin hospodársky, trestný čin proti majetku alebo iný trestný čin spáchaný úmyselne, ktorého skutková podstata, súvisí s predmetom podnikania.
C43: *12. Ako žiadateľ týmto vyhlasujem, že voči žiadateľovi nie je vyhlásený konkurz ani povolená reštrukturalizácia. Vyhlásenie sa vzťahuje aj na konania začaté a neukončené podľa zákona č. 328/1991 Zb. o konkurze a vyrovnaní v znení neskorších predpisov, ktorý bol účinný pred zákonom č. 7/2005 Z. z. o konkurze a reštrukturalizácii a o zmene a doplnení niektorých zákonov v znení neskorších predpisov. Rovnako sa podmienka vzťahuje na prípady zastavenia konkurzného konania pre nedostatok majetku žiadateľa alebo zrušenia konkurzu pre nedostatok majetku žiadateľa.
C45: *13. Ako žiadateľ týmto vyhlasujem, že vo vzťahu k rovnakým oprávneným výdavkom v rámci Schémy minimálnej pomoci na podporu startupov v úplnom znení nebola žiadateľovi poskytnutá žiadna iná štátna ani minimálna pomoc.
C47: *14. Ako žiadateľ týmto vyhlasujem, že v čase podania žiadosti žiadateľ spĺňa iné náležitosti a požiadavky Výzvy na predkladanie žiadostí o poskytnutie podpory v rámci Komponentu 3 (Voucher na stážový pobyt) Schémy minimálnej pomoci na podporu startupov v úplnom znení (napr. zabezpečenie zákazu konfliktu záujmov na príslušných úrovniach požadovaných vo výzve, osobitné požiadavky na status žiadateľa a pod.), ak z nej vyplývajú.
B49: Za žiadateľa:
B50: V: | C50: ='Formulár Žiadosti'!C75 -> 0 | F50: dňa: | G50: ='Formulár Žiadosti'!G75 -> 0
B52: Meno a priezvisko: | E52: ='Formulár Žiadosti'!E76 -> 0
B54: Podpis dotknutej osoby:

Sheet Príloha č. 6 Vyhlásenie  
B1: Vyhlásenie k spracúvaniu osobných údajov v rámci Schémy minimálnej pomoci na podporu startupov
B2: Dolu podpísaný/á ako dotknutá osoba uvedená v Žiadosti o poskytnutie podpory v rámci Schémy minimálnej pomoci na podporu startupov v úplnom znení (ďalej len „žiadosť“) a/alebo v súvislosti s ňou (ďalej len „dotknutá osoba“) beriem týmto na vedomie, že Slovak Business Agency, so sídlom Karadžičova 7773/2, 811 09 Bratislava – Staré Mesto, Slovenská republika, korešpondenčná adresa: Trnavská cesta 100, 821 01 Bratislava, Slovenská republika, IČO: 30 845 301, registrácia: Záujmové združenie právnických osôb zapísané v registri vedenom Okresným úradom Bratislava, reg. č.: OVVS/467/1997-Ta (ďalej len „vykonávateľ“), je v zmysle zákona č. 290/2016 Z. z. o podpore malého a stredného podnikania a o zmene a doplnení zákona č. 71/2013 Z. z. o poskytovaní dotácií v pôsobnosti Ministerstva hospodárstva Slovenskej republiky v znení neskorších predpisov v znení neskorších predpisov (ďalej len „zákon č. 290/2016 Z. z.“) oprávnený spracúvať osobné údaje dotknutej osoby v rozsahu, v akom sú uvedené v žiadosti a/alebo v súvislosti s ňou, a to na účely: 1. posudzovania a vyhodnocovania žiadosti a/alebo 2. uzatvorenia a/alebo plnenia zmluvy o poskytnutí podpory v zmysle zákona č. 290/2016 Z. z.
B3: V prípade, ak na spracúvanie osobných údajov nie je možné použiť zákon č. 290/2016 Z. z., ako dotknutá osoba týmto beriem na vedomie, že spracúvanie osobných údajov dotknutej osoby je nevyhnutné na splnenie úlohy realizovanej vo verejnom záujme a zároveň prebieha aj na právnom základe oprávneného záujmu v zmysle príslušných ustanovení Nariadenia Európskeho parlamentu a Rady (EÚ) 2016/679 z 27. apríla 2016 o ochrane fyzických osôb pri spracúvaní osobných údajov a o voľnom pohybe takýchto údajov, ktorým sa zrušuje smernica 95/46/ES (všeobecné nariadenie o ochrane údajov) v platnom znení (ďalej len „Nariadenie“).
B4: Vyhlásenie k spracúvaniu osobných údajov sa udeľuje na dobu 10 rokov, ak všeobecne záväzné právne predpisy nestanovujú dlhšiu dobu.
B5: Ako dotknutá osoba beriem na vedomie možnosť poskytnutia osobných údajov Ministerstvu hospodárstva Slovenskej republiky a/alebo tretím osobám, ktoré poskytujú vykonávateľovi služby spôsobom, že bez prístupu k predmetným osobným údajom by sa dané služby nedali poskytovať.
B7: Ako dotknutá osoba svojím podpisom zároveň potvrdzujem poskytnutie informácií zo strany vykonávateľa v zmysle príslušných ustanovení Nariadenia.
B10: V: | F10: dňa:
B12: Meno a priezvisko :
B16: Podpis dotknutej osoby
A18: 1 Vyhlásenie je potrebné predložiť za každú fyzickú osobu uvedenú v žiadosti
