Workbook
Name _ftn1: 'Príloha č. 1 Projektový zámer'!$A$3
Name _ftnref1: 'Príloha č. 1 Projektový zámer'!#REF!

Sheet Inštrukcie
A1: Krátke inštrukcie
A2: 1. Vpisujte dáta iba do označených polí.
A3: 2. Názvy polí a hárkov, tj. nadpisy sú nemenné.
A4: 3. Vyberajte iba z predvolených zoznamov v bunkách.
A5: 4. Polia s hviezdičkou sú povinné polia, polia bez hviezdičky vyplňte, ak sa vás týkajú.
A6: 5. Bunky je možné roztiahnuť a text zalomiť v prípade dlhého textu.
A7: 6. Vyplnenú žiadosť spolu s povinnými prílohami exportujte samostatne do jednotlivých PDF s názvami podľa názvu jednotlivých hárkov. Postup: Súbor - exportovať - vytvoriť dokument PDF.
A8: 7. Polia resp. predvyplnené texty nemažte a nemeňte.
A9: 8. Tlač/export hárkov do PDF zrealizujte tak, aby boli čitateľné a vyexportované iba relevantné vyplnené časti hárku tj. neexportujte resp. netlačte prázdne strany.
A10: 9. Ak máte Macbook, odporúčame vyplniť excel cez Google Disk - Tabuľky.
A11: 10. V prípade problémov s vypĺňaním žiadosti a príloh pred odoslaním kontaktuje telefonicky/mailom zodpovedného manažéra programu +421 2 203 63 501 resp. poradenstvo@sbagency.sk.

Sheet Formulár Žiadosti
B3: Žiadosť o poskytnutie podpory v rámci Schémy minimálnej pomoci na podporu startupov
B4: Právny základ: | E4: Schéma minimálnej pomoci na podporu startupov v úplnom znení
B5: Poradové číslo: (prosíme nevypĺňať) | G5: Dátum doručenia Žiadosti: (miesto pre úradný záznam)
B7: Formulár Žiadosti je kompletný, ak sú vyplnené všetky povinné polia. Povinné polia sú označené*
B8: Komponent (K1, K2, K3)*
B9: Komponent 2
B10: Názov aktivity/projektu*
B13: Obchodné meno žiadateľa/Názov*
B16: Sídlo/Miesto podnikania žiadateľa (ulica, číslo)*
B19: Obec*
B22: PSČ*
B25: Okres*
B27: Kraj*
B30: Adresa prevádzkarne, ak je zriadená
B33: Právna forma (vyplňte kliknutím)*
B35: Ak ste vyplnili Iné | H35: (napíšte aká...............)
B37: Druh podniku (podľa definície MSP) - vyplňte kliknutím* (Pre potreby overenia, či žiadateľ spĺňa definíciu MSP (mikropodniku, malého alebo stredného podniku), je potrebné definovať, o aký typ podniku ide. Podrobná definícia typov podnikov pre potreby overenia sa nachádza v Príručke pre používateľov definície MSP dostupnej na: https://bit.ly/Definicia_MSP)
B40: IČO (právnické osoby, fyzické osoby - podnikatelia)*
B43: Číslo registrácie IČ DPH
B46: Štatutárny orgán (Meno a priezvisko štatutárneho orgánu alebo členov štatutárneho orgánu, alebo meno a priezvisko zodpovedného zástupcu, ak je ustanovený)*
B49: Štatutárny orgán (Spôsob, akým bude za prijímateľa konať podľa ORSR)*
B52: Štatutárny orgán (Rodné číslo štatutárneho orgánu alebo členov štatutárneho orgánu)*
B55: Štatutárny orgán (Trvalý pobyt štatutárneho orgánu alebo členov štatutárneho orgánu)*
B58: Kontaktná osoba (Meno, priezvisko, funkcia)*
B61: Telefón kontaktnej osoby*
B64: E-mail kontaktnej osoby*
B67: Druh nepriamej formy podpory a vymedzenie účelu, na ktorý sa požaduje*
B68: Poskytovanie odborného poradenstva
... B73: Za žiadateľa:
B75: V: | F75: dňa:
B76: Meno a priezvisko konajúceho:
B77: Podpis konajúceho:1
B79: 1 V prípade, že ma spoločnosť v ORSR zapísaných viacero štatutárnych zástupcov, ale majú nastavené samostatné konanie Žiadosť a vyhlásenia podáva a podpisuje za spoločnosť jeden zo štatutárov, v prípade spoločného konania podávajú Žiadosť a vyhlásenia na samostatnom tlačive každý z uvedených štatutárnych zástupcov podľa pravidla v ORSR
B81: Žiadosť a vyhlásenia po vyplnení, ešte nepodpísané, pošlite v súbore .xlsx na email: poradenstvo@sbagency.sk, následne všetko uložte vo formáte pdf., podpíšte KEPom alebo vytlačte, vlastnoručne podpíšte a naskenujte. Podpísanú verziu pošlite na email: poradenstvo@sbagency.sk alebo prostredníctvom portálu www.slovensko.sk, počas temínu podávania Žiadostí o poskytnutie podpory v rámci Komponentu 2 Schémy minimálnej pomoci na podporu startupov
B83: Prílohy:
B84: − Vyhlásenia žiadateľa o splnení podmienok poskytnutia pomoci v rámci Schémy minimálnej pomoci na podporu startupov;
B85: − Vyhlásenie k spracúvaniu osobných údajov v rámci Schémy minimálnej pomoci na podporu startupov;
B86: − iné prílohy uvedené v konkrétnej výzve a/alebo implementačnom manuáli.
B139: Názov aktivity | C139: =B11 -> 0
B140: Obchodné meno * | C140: =B14 -> 0
B141: Sídlo žiadateľa | C141: =B17 -> 0
B142: Obec | C142: =B20 -> 0
B143: PSČ | C143: =B23 -> 0
B144: Kraj | C144: =B28 -> 0
B145: Prevádzka | C145: =B31 -> 0
B146: Právna forma | C146: =B34 -> 0
B147: Ine | C147: =D35 -> 0
B148: Druh podniku | C148: =B38 -> 0
B149: IČO | C149: =B41 -> 0
B150: IČ DPH | C150: =D35 -> 0
B151: Štatutárny orgán/konajúci | C151: =B47 -> 0
B152: Štatutár r.č. | C152: =B53 -> 0
B153: Štatutárny orgán (trvalý pobyt štatutárneho orgánu alebo členov štatutárneho orgánu ) | C153: =B56 -> 0
B154: Kontaktná osoba | C154: =B59 -> 0
B155: Telefón kontaktnej osoby | C155: =B62 -> 0
B156: Email kontaktnej osoby* | C156: =B65 -> 0
B157: Druh priamej formy podpory a vymedzenie účelu, na ktorý sa požaduje | C157: =B68 -> Poskytovanie odborného poradenstva
B158: Bankové spojenie (IBAN a SWIFT kód) | C158: =#REF! -> #REF!
B159: Plánovaná výška vlastných prostriedkov určených na realizáciu projektu a účel ich použitia | C159: =#REF! -> #REF!
B160: Výška požadovanej podpory | C160: =#REF! -> #REF!
B161: Počet pracovníkov (ročná pracovná jednotka) | C161: ='Formulár Informácie'!B11 -> 0
B162: Ročný obrat za rok 2024 a odhad 2025 | C162: ='Formulár Informácie'!B15 -> 0
B163: Celková ročná bilančná suma(aktíva) za rok 2024 a odhad 2025 | C163: ='Formulár Informácie'!B18 -> 0
B164: de minimis plan | C164: ='Formulár Informácie'!#REF! -> #REF!
B165: Forma podpisovania dokumentácie | C165: ='Formulár Informácie'!#REF! -> #REF!
B488: Fyzická osoba – podnikateľ
B489: Právnická osoba napr. s.r.o., a.s., j.s.a., k.s. a pod.
B490: Iné
B491: Mikropodnik - Podnik, ktorý zamestnáva menej ako 10 osôb a ktorého ročný obrat a/alebo celková ročná súvaha nepresahuje 2 mil. EUR.
B492: Malý podnik - Podnik, ktorý zamestnáva menej ako 50 osôb a ktorého ročný obrat a/alebo celková ročná súvaha nepresahuje 10 mil. EUR.
B493: Stredný podnik - Podnik, ktorý zamestnáva menej ako 250 osôb a ktorého ročný obrat nepresahuje 50 mil. EUR a/alebo celková ročná súvaha nepresahuje 43 mil. EUR.
B495: samostatné konanie
B496: spoločné konanie
B497: iné
B499: Vyhlasujem
B500: Nevyhlasujem

Sheet Formulár Informácie
B1: Informácie o podniku potrebné k overeniu oprávnenosti žiadateľa
B2: Žiadosť: | C2: Žiadosť o poskytnutie podpory v rámci Komponentu 2 (Poskytovanie odborného poradenstva) Schémy minimálnej pomoci na podporu startupov
B4: Obchodné meno/Názov žiadateľa*
B5: ='Formulár Žiadosti'!B14 -> 0
B6: IČO*
B7: ='Formulár Žiadosti'!B41 -> 0
B9: Počet pracovníkov (ročná pracovná jednotka) za rok 2025 a ak ste novozaložený podnik od 1.1.2026 - uveďte kvalifikovaný odhad na obdobie roka 2026*
B10: Uveďte priemerný počet pracovníkov, ktorí pracovali vo Vašom podniku ku dňu zostavenia účtovnej závierky v predchádzajúcom období (napr. k 31. 12. 2024) na plný pracovný čas alebo čiastkový pracovný čas. Ide najmä o zamestnancov, dohodárov, vlastníkov, manažérov a pod. Ak ste ešte účtovnú závierku k danému obdobiu nezostavovali, uveďte kvalifikovaný odhad tejto hodnoty. Spôsob výpočtu ročnej pracovnej jednotky nájdete na https://bit.ly/Definicia_MSP
B13: Ročný obrat za rok 2025 a ak ste novozaložený podnik od 1.1.2026 - uveďte kvalifikovaný odhad na obdobie roka 2026*
B14: Presné informácie nájdete viď. http://www.registeruz.sk (v prípade, že zverejňujete účtovnú závierku). Uveďte výšku obratu Vášho podniku ku dňu zostavenia účtovnej závierky v predchádzajúcom období (napr. k 31. 12. 2025). Ak ste ešte účtovnú závierku za spomínané obdobie nezostavovali, uveďte kvalifikovaný odhad tejto hodnoty. Aké hodnoty je potrebné uviesť v položke obrat nájdete https://bit.ly/Definicia_MSP
B17: Celková ročná bilančná suma (aktíva) za rok 2025 a ak ste novozaložený podnik od 1.1.2026 - uveďte kvalifikovaný odhad na obdobie roka 2026*
B23: V: | C23: ='Formulár Žiadosti'!C75 -> 0 | F23: dňa: | G23: ='Formulár Žiadosti'!G75 -> 0
B25: Meno a priezvisko: | E25: ='Formulár Žiadosti'!B47 -> 0
B26: Podpis dotknutej osoby:
C132: v listinnej podobe
C133: v elektronickej podobe t.j. kvalifikovaným elektronickým podpisom/zaručeným elektronickým podpisom (KEP/ZEP)
C135: Počet pracovníkov (ročná pracovná jednotka) | D135: =B11 -> 0
C136: Ročný obrat za rok 2024 a odhad 2025 | D136: =B15 -> 0
C137: Celková ročná bilančná suma(aktíva) za rok 2024 a odhad 2025 | D137: =B18 -> 0
C138: de minimis plan | D138: =#REF! -> #REF!

Sheet Príloha č. 1 Projektový zámer
A1: PROJEKTOVÝ ZÁMER PODNIKATEĽA/MSP1
A2: I. INFORMÁCIE O ŽIADATEĽOVI
A3: Názov/obchodné meno, právna forma: | C3: ='Formulár Žiadosti'!B14 -> 0
A4: IČO: | C4: ='Formulár Žiadosti'!B41 -> 0
A5: Dátum prvého zápisu do OR/ŽR SR:
A6: URL firmy, príp. startupu:
A7: Celkový počet členov projektového tímu:
A8: Zúčastnila sa Vaša spoločnosť v minulosti podpory (v rámci Schémy alebo Programu na podporu startupov - poskytovanie konzultácií a odborného poradenstva) ? | C8: FALSE | D8: ÁNO
C9: FALSE | D9: NIE
A10: Ak áno, prosíme konkretizujte, čo bolo obsahom a výstupom podpory (definujte výstup podpory presne podľa toho ako bol definovaný v zmluve s prijímateľom):
A11: II. INFORMÁCIE O STARTUPE
A12: Názov startupu (ak je iný ako názov spoločnosti):
A13: Popis myšlienky produktu/služby (Stručne popíšte Váš produkt/službu, aký problém a potrebu chcete riešiť na trhu):
A14: Popíšte v čom je Váš produkt, či služba technologicky výnimočná a unikátna? (Čím sa odlišujete od konkurencie)?
A15: Popíšte, v akom štádiu sa Váš produkt/služba nachádza? (Stav pred poskytovaním konzultácií a odborného poradenstva). | C15: FALSE | D15: nápad
C16: FALSE | D16: spracovaná štúdia realizovateľnosti
C17: FALSE | D17: spracovaná podkladová dokumentácia k produktu/službe
C18: FALSE | D18: beta verzia
C19: FALSE | D19: prototyp
C20: FALSE | D20: produkt
C21: FALSE | D21: iné (uveďte):
A22: Stručne uveďte základné funkcie, technológie, ktoré sú už spracované a funkčné, a ktoré produkt využíva. Uveďte, čo je potrebné dovyvíjať alebo modernizovať k plnému využitiu produktu:
A23: Je produkt/služba dokončená a pripravená k predaju? Ako áno, kedy bude uvedená na trh? Ak nie, na aké časové obdobie odhadujete vývoj produktu a uvedenie na trh?
A24: Zákazníci a odberatelia (Definujte cieľovú skupinu odberateľov, platiacich zákazníkov, koncového používateľa):
A25: Popis a analýza trhu (Charakterizujte Váš cieľový trh a Váš očakávaný podiel na trhu, bariéry vstupu na trh):
A26: Na ktoré zahraničné trhy sa Vaša spoločnosť zameriava/resp. sa chce zamerať?
A27: Kto je Vaša konkurencia na Slovensku a v zahraničí? Akú mate oproti nim konkurenčnú výhodu)?
A28: Popíšte Váš biznis plán (predajný a distribučný model):
A29: Popíšte Vašu marketingovú stratégiu:
A30: Aká je/bude cena produktu/služby?
A31: Riziká (Charakterizujte, aké najčastejšie riziká sa môžu vyskytnúť pri realizovaní Vášho projektového zámeru):
A32: Aké sú Vaše hlavné ciele a očakávania od podpory, ktorá bude realizovaná formou konzultácií a odborného poradenstva?
A33: III. VÝSTUP A HARMONOGRMAM PODPORY (INŠTRUKCIE)
... A36: IV. MOŽNOSTI VÝSTUPU PODPORY č. (1-9) – vyplňte kliknutím
A37: FALSE | B37: Číslo 1 - spracovanie štúdie realizovateľnosti | C37: Počet požadovaných hodín konzultácií a odborného poradenstva pre zvolený výstup podpory:
C38: Popis výstupu podpory: Stručne uveďte napr. hlavné aktivity, tiež merateľné ukazovatele, rozsah spracovania, ktoré bude vytvorený výstup podpory obsahovať:
A40: FALSE | B40: Číslo 2 - dokončenie vývoja produktu alebo zhotovenie funkčného prototypu, vrátane testovania a úvodnej prezentácie | C40: Počet požadovaných hodín konzultácií a odborného poradenstva pre zvolený výstup podpory:
C41: Uveďte v akom štádiu sa bude nachádzať produkt/služba po skončení poskytovania konzultácií a odborného poradenstva:
C42: FALSE | D42: spracovaná podkladová dokumentácia k produktu/službe
C43: FALSE | D43: beta verzia
C44: FALSE | D44: prototyp
C45: FALSE | D45: produkt
C46: FALSE | D46: produkt vrátane testovania a úvodnej prezentácie
C47: FALSE | D47: iné (uveďte):
C48: Popis výstupu podpory: Stručne uveďte čo presne sa bude počas poskytovania konzultácií a odborného poradenstva na produkte/službe vyvíjať, resp. ktorej časti produktu sa bude vývoj týkať. Popíšte čo sa zmení - nové funkcionality, charakteristiky, merateľné ukazovatele, ktoré bude produkt/služba obsahovať) :
A49: FALSE | B49: Číslo 3 - biznis plán | C49: Počet požadovaných hodín konzultácií a odborného poradenstva pre zvolený výstup podpory:
C50: Popis výstupu podpory: Stručne uveďte napr. hlavné aktivity, tiež merateľné ukazovatele, rozsah spracovania, ktoré bude vytvorený výstup podpory obsahovať:
A52: FALSE | B52: Číslo 4 - plán a analýza partnerov | C52: Počet požadovaných hodín konzultácií a odborného poradenstva pre zvolený výstup podpory:
C53: Popis výstupu podpory: Stručne uveďte napr. hlavné aktivity, tiež merateľné ukazovatele, rozsah spracovania, ktoré bude vytvorený výstup podpory obsahovať:
A55: FALSE | B55: Číslo 5 - spracovanie marketingového prieskumu | C55: Počet požadovaných hodín konzultácií a odborného poradenstva pre zvolený výstup podpory:
C56: Popis výstupu podpory: Stručne uveďte napr. hlavné aktivity, tiež merateľné ukazovatele, rozsah spracovania, ktoré bude vytvorený výstup podpory obsahovať:
A58: FALSE | B58: Číslo 6 - marketing - marketingová stratégia | C58: Počet požadovaných hodín konzultácií a odborného poradenstva pre zvolený výstup podpory:
C59: Popis výstupu podpory: Stručne uveďte napr. hlavné aktivity, tiež merateľné ukazovatele, rozsah spracovania, ktoré bude vytvorený výstup podpory obsahovať:
A61: FALSE | B61: Číslo 7 - marketing - kampaň na zabezpečenie testovania myšlienky a prototypu s reálnymi potenciálnymi klientmi, | C61: Počet požadovaných hodín konzultácií a odborného poradenstva pre zvolený výstup podpory:
C62: Popis výstupu podpory: Stručne uveďte napr. hlavné aktivity, tiež merateľné ukazovatele, rozsah spracovania, ktoré bude vytvorený výstup podpory obsahovať:
A64: FALSE | B64: Číslo 8 - cenotvorba | C64: Počet požadovaných hodín konzultácií a odborného poradenstva pre zvolený výstup podpory:
C65: Popis výstupu podpory: Stručne uveďte napr. hlavné aktivity, tiež merateľné ukazovatele, rozsah spracovania, ktoré bude vytvorený výstup podpory obsahovať:
A67: FALSE | B67: Číslo 9 - vytváranie projektového tímu a iné súvisiace aktivity | C67: Počet požadovaných hodín konzultácií a odborného poradenstva pre zvolený výstup podpory:
C68: Popis výstupu podpory: Stručne uveďte napr. hlavné aktivity, tiež merateľné ukazovatele, rozsah spracovania, ktoré bude vytvorený výstup podpory obsahovať:
A70: V. ROZSAH SPRACOVANIA VÝSTUPU PODPORY Po ukončení poskytovania podpory je potrebné odovzdať výstup podpory v uvedenom rozsahu (v prípade, že máte schválených viacero výstupov podpory je potrebné uvedený rozsah dodržať pre každý schválený výstup podpory):
A71: Schválený počet hodín poradenstva na konkrétny výstup podpory | C71: Počet normostrán
A72: 40 hodín a menej | C72: 5 strán
A73: 41 až 90 hodín | C73: 10 strán
A74: 91 až 140 hodín | C74: 15 strán
A75: 141 a viac | C75: 20 strán
A76: VII. CELKOVÁ VÝŠKA PODPORY
A77: Výška požadovanej podpory v eur:2
A78: Sumárny požadovaný počet hodín konzultácií a odborného poradenstva pre všetky zvolené výstupy podpory spolu:
A79: VIII. ZÁSTUPCOVIA ŽIADATEĽA
A80: Na odbornom poradenstve sa budú za prijímateľa zúčastňovať:4 | C80: FALSE | D80: 1 zástupca
C81: FALSE | D81: 2 zástupcovia
C82: FALSE | D82: 3 zástupcovia
A83: 1 žiadateľ je povinný vyplniť všetky údaje, komisia zohľadňuje detailnosť a úplnosť informácií, preto prosím žiadosť a projektový zámer vypĺňajte dôsledne
A84: 2 vzhľadom k tomu, že sa služba realizuje prostredníctvom externého dodávateľa, odporúčame uviesť maximálnu výšku pomoci, a to je 25 000 eur
A85: 3 žiadateľ berie na vedomie poskytnutie údajov prípadne vybraných príloh Žiadosti Dodávateľovi 4 prijímateľ zabezpečí, že konzultácií a odborného poradenstva sa za Prijímateľa budú zúčastňovať také osoby, že úžitok, resp. prospech z poskytnutej konzultácie a odborného poradenstva bude mať výlučne Prijímateľ sám bez toho, aby tieto osoby využili poskytnutú Podporu vo svoj vlastný prospech a/alebo v prospech 3. (tretích) osôb

Sheet Príloha č.2 Vyhlásenie  
A1: Vyhlásenie žiadateľa o právach viažucich sa k projektu
A4: k Výzve na predkladanie žiadostí o poskytnutie podpory v rámci Schémy minimálnej pomoci na podporu startupov (Komponent 1, Komponent 2 a Komponent 3) a Programu na podporu startupov (Komponent 1 a Komponent 2) (ďalej len „Výzva“)
A28: V tejto súvislosti ako žiadateľ v zmysle časti 2 Výzvy týkajúcej sa Komponentu 2 Schémy minimálnej pomoci na podporu startupov (DM - 49/2024) v úplnom znení (ďalej len „Schéma“):
A29: Názov/Obchodné meno: | E29: ='Formulár Žiadosti'!B14 -> 0
A30: IČO: | E30: ='Formulár Žiadosti'!B41 -> 0
A31: Štatutárny orgán (meno a prizvisko): | E31: ='Formulár Žiadosti'!B47 -> 0
A32: záväzne vyhlasujem, že:
A33: 1. Podnikateľský nápad alebo projekt, ktorý je súčasťou Žiadosti o poskytnutie podpory v rámci Komponentu 2 Schémy vrátane príloh (ďalej len „Žiadosť“) a s ktorým sa ako žiadateľ uchádzam o účasť na podpore v rámci Komponentu 2 Schémy (ďalej len „Projekt“) je Projektom žiadateľa, resp. žiadateľ je oprávneným držiteľom a/alebo vykonávateľom práv viažucim sa k Projektu, 2. Projekt neobsahuje žiadne skutočnosti, ktoré môžu bez právneho dôvodu zasiahnuť do práv a právom chránených záujmov iných osôb alebo by mohli byť v rozpore s dobrými mravmi, 3. Projekt nemá žiadne právne vady, najmä sa naň neviažu žiadne práva iných osôb, 4. Všetky žiadateľom poskytnuté údaje sú úplné a pravdivé a ako žiadateľ som si vedomý právnych dôsledkov v prípade uvedenia neúplných, resp. nepravdivých údajov.
A43: Za žiadateľa:
A44: V: | B44: ='Formulár Žiadosti'!C75 -> 0 | E44: dňa: | H44: ='Formulár Žiadosti'!G75 -> 0
A47: Podpis štatutárného orgánu žiadateľa:

Sheet Príloha č. 3 Vyhlásenie 
B1: Vyhlásenia žiadateľa o splnení podmienok poskytnutia pomoci v rámci Schémy minimálnej pomoci na podporu startupov
B3: Žiadosť: | C3: Žiadosť o poskytnutie podpory v rámci Komponentu 2 (Poskytovanie odborného poradenstva) Schémy minimálnej pomoci na podporu startupov
B5: Obchodné meno/Názov žiadateľa*
B6: ='Formulár Žiadosti'!B14 -> 0
B7: IČO*
B8: ='Formulár Žiadosti'!B41 -> 0
B10: Príloha je kompletná, ak sú zaškrtnuté všetky povinné vyhlásenia. Povinné vyhlásenia sú označené *.
B13: V rámci vyhlásenia bod 1. a 2. uveďte iba 1 skutočnosť podľa aktuálneho stavu (vyplňte kliknutím)
C14: *1. Ako žiadateľ v rámci Schémy minimálnej pomoci na podporu startupov v úplnom znení (ďalej len „žiadateľ“) týmto vyhlasujem, že nepatrím do skupiny podnikov, ktoré tvoria jediný podnik podľa článku 2 odsek 2 Nariadenia komisie (EÚ) 2023/2831 z 13. decembra 2023 o uplatňovaní článkov 107 a 108 Zmluvy o fungovaní Európskej únie na pomoc de minimis v platnom znení (ďalej len „nariadenie č. 2023/2831“).
B15: ALEBO
C16: *2. Ako žiadateľ patriaci do skupiny podnikov, ktoré tvoria jediný podnik podľa článku 2 odsek 2 nariadenia č. 2023/2831, predkladám, za účelom overenia stropu pomoci, identifikáciu subjektov, ktoré so žiadateľom tvoria jediný podnik podľa článku 2 odsek 2 nariadenia č. 2023/2831.*
B18: Obchodné meno podniku | E18: Sídlo / miesto podnikania | J18: IČO
B24: Bod č. 3 Vyhlásenia sa použije výlučne v prípade skupiny podnikov
C25: 3. Ako žiadateľ patriaci do skupiny podnikov, ktoré tvoria jediný podnik podľa článku 2 odsek 2 nariadenia č. 2023/2831 týmto vyhlasujem, že sa voči členom skupiny podnikov, ktoré so žiadateľom tvoria jediný podnik podľa článku 2 odsek 2 nariadenia č. 2023/2831 neuplatňuje vrátenie štátnej pomoci na základe rozhodnutia Európskej komisie, v ktorom bola táto štátna pomoc označená za neoprávnenú a nezlučiteľnú s vnútorným trhom.*
C27: *4. Ako žiadateľ týmto vyhlasujem, že pomoc nebude použitá v odvetviach hospodárstva, na ktoré sa pomoc v súlade s ustanovením článku 1 odsek 1 nariadenia č. 2023/2831 nevzťahuje, a to: a) v oblasti prvovýroby produktov rybolovu a akvakultúry; b) v oblasti spracovania a marketingu produktov rybolovu a akvakultúry, ak je výška pomoci stanovená na základe ceny alebo množstva kúpených výrobkov alebo výrobkov uvedených na trh; c) v poľnohospodárskej prvovýrobe; d) v oblasti spracovania a marketingu poľnohospodárskych výrobkov, a to v jednom z týchto prípadov: (i) ak je výška pomoci stanovená na základe ceny alebo množstva takýchto výrobkov kúpených od prvovýrobcov alebo uvedených na trh príslušnými podnikmi, (ii) ak je pomoc podmienená tým, že bude čiastočne alebo úplne postúpená prvovýrobcom; e) na činnosti súvisiace s vývozom do tretích krajín alebo členských štátov, konkrétne pomoc priamo súvisiacu s vyvážanými množstvami, pomoc na zriadenie a prevádzkovanie distribučnej sústavy alebo na iné bežné výdavky súvisiace s vývoznou činnosťou; f) v prípade pomoci, ktorá je podmienená uprednostňovaním používania domácich výrobkov a služieb pred dovážanými.
C29: *5. Ako žiadateľ týmto vyhlasujem, že pomoc bude použitá v rozsahu pôsobnosti Schémy minimálnej pomoci na podporu startupov v úplnom znení.
C31: *6. Ako žiadateľ týmto informujem, že v čase podania Žiadosti o poskytnutie podpory v rámci Schémy minimálnej pomoci na podporu startupov v úplnom znení (ďalej len „žiadosť“) žiadateľ nežiada o inú minimálnu pomoc aj od iného poskytovateľa pomoci, v rámci iných schém minimálnej pomoci, prípadne sa ako žiadateľ zaväzujem, že ak by žiadateľ takúto (inú) žiadosť predložil v čase posudzovania žiadosti, budem o tejto skutočnosti informovať vykonávateľa. V prípade, ak v čase podania žiadosti žiadate o inú minimálnu pomoc aj od iného poskytovateľa, v rámci iných schém uveďte poskytovateľa pomoci a výšku poskytovanej pomoci: Poskytovateľ: Suma:
C33: *7. Ako žiadateľ týmto vyhlasujem, že žiadateľ spĺňa status mikropodniku, malého alebo stredného podniku v zmysle definície uvedenej v prílohe I. nariadenia Komisie (EÚ) č. 651/2014 zo 17. júna 2014 o vyhlásení určitých kategórií pomoci za zlučiteľné s vnútorným trhom podľa článkov 107 a 108 zmluvy v platnom znení.
C35: *8. Ako žiadateľ týmto vyhlasujem, že sa voči žiadateľovi neuplatňuje vrátenie štátnej pomoci na základe rozhodnutia Európskej komisie, v ktorom bola táto štátna pomoc označená za neoprávnenú a nezlučiteľnú s vnútorným trhom.
C37: *9. Ako žiadateľ týmto vyhlasujem, že žiadateľ je podnikateľom podľa ustanovenia § 2 odsek 2 zákona č. 513/1991 Zb. Obchodný zákonník v znení neskorších predpisov, založeným a existujúcim podľa práva Slovenskej republiky, so sídlom a/alebo miestom podnikania na území Slovenskej republiky
C39: *10. Ako žiadateľ (právnická osoba oprávnená vykonávať podnikateľskú činnosť) týmto vyhlasujem, že žiadateľ nebol právoplatne odsúdený v zmysle zákona č. 91/2016 Z. z. o trestnej zodpovednosti právnických osôb a o zmene a doplnení niektorých zákonov v znení neskorších predpisov.
C41: *11. Ako žiadateľ (fyzická osoba oprávnená vykonávať podnikateľskú činnosť) týmto vyhlasujem, že žiadateľ nebol právoplatne odsúdený za trestný čin hospodársky, trestný čin proti majetku alebo iný trestný čin spáchaný úmyselne, ktorého skutková podstata, súvisí s predmetom podnikania.
C43: *12. Ako žiadateľ týmto vyhlasujem, že voči žiadateľovi nie je vyhlásený konkurz ani povolená reštrukturalizácia. Vyhlásenie sa vzťahuje aj na konania začaté a neukončené podľa zákona č. 328/1991 Zb. o konkurze a vyrovnaní v znení neskorších predpisov, ktorý bol účinný pred zákonom č. 7/2005 Z. z. o konkurze a reštrukturalizácii a o zmene a doplnení niektorých zákonov v znení neskorších predpisov. Rovnako sa podmienka vzťahuje na prípady zastavenia konkurzného konania pre nedostatok majetku žiadateľa alebo zrušenia konkurzu pre nedostatok majetku žiadateľa.
C45: *13. Ako žiadateľ týmto vyhlasujem, že vo vzťahu k rovnakým oprávneným výdavkom v rámci Schémy minimálnej pomoci na podporu startupov v úplnom znení nebola žiadateľovi poskytnutá žiadna iná štátna ani minimálna pomoc.
C47: *14. Ako žiadateľ týmto vyhlasujem, že v čase podania žiadosti žiadateľ spĺňa iné náležitosti a požiadavky Výzvy na predkladanie žiadostí o poskytnutie podpory v rámci Komponentu 2 (Poskytovanie odborného poradenstva) Schémy minimálnej pomoci na podporu startupov v úplnom znení (napr. zabezpečenie zákazu konfliktu záujmov na príslušných úrovniach požadovaných vo výzve, osobitné požiadavky na status žiadateľa a pod.), ak z nej vyplývajú.
B49: Za žiadateľa:
B50: V: | C50: ='Formulár Žiadosti'!C75 -> 0 | F50: dňa: | G50: ='Formulár Žiadosti'!G75 -> 0
B52: Meno a priezvisko: | E52: ='Formulár Žiadosti'!B47 -> 0
B54: Podpis dotknutej osoby:

Sheet Príloha č. 4 Vyhlásenie
A1: Vyhlásenie k spracúvaniu osobných údajov v rámci Schémy minimálnej pomoci na podporu startupov
A5: Meno a priezvisko:
A6: Dolu podpísaný/á ako dotknutá osoba uvedená v Žiadosti o poskytnutie podpory v rámci Komponentu 2 Schémy minimálnej pomoci na podporu startupov v úplnom znení vrátane príloh (ďalej len „žiadosť“) a/alebo v súvislosti s ňou (ďalej len „dotknutá osoba“) beriem týmto na vedomie, že Slovak Business Agency, so sídlom Karadžičova 7773/2, 811 09 Bratislava – Staré Mesto, Slovenská republika, korešpondenčná adresa: Trnavská cesta 100, 821 01 Bratislava, Slovenská republika, IČO: 30 845 301, registrácia: Záujmové združenie právnických osôb zapísané v registri vedenom Okresným úradom Bratislava, reg. č.: OVVS/467/1997-Ta (ďalej len „vykonávateľ“), je v zmysle zákona č. 290/2016 Z. z. o podpore malého a stredného podnikania a o zmene a doplnení zákona č. 71/2013 Z. z. o poskytovaní dotácií v pôsobnosti Ministerstva hospodárstva Slovenskej republiky v znení neskorších predpisov v znení neskorších predpisov (ďalej len „zákon č. 290/2016 Z. z.“) oprávnený spracúvať osobné údaje dotknutej osoby v rozsahu, v akom sú uvedené v žiadosti a/alebo v súvislosti s ňou, a to na účely: 1. posudzovania a vyhodnocovania žiadosti a/alebo 2. uzatvorenia a/alebo plnenia zmluvy o poskytnutí podpory v zmysle zákona č. 290/2016 Z. z. V prípade, ak na spracúvanie osobných údajov nie je možné použiť zákon č. 290/2016 Z. z., dotknutá osoba týmto berie na vedomie, že spracúvanie osobných údajov dotknutej osoby je nevyhnutné na splnenie úlohy realizovanej vo verejnom záujme a zároveň prebieha aj na právnom základe oprávneného záujmu v zmysle príslušných ustanovení Nariadenia Európskeho parlamentu a Rady (EÚ) 2016/679 z 27. apríla 2016 o ochrane fyzických osôb pri spracúvaní osobných údajov a o voľnom pohybe takýchto údajov, ktorým sa zrušuje smernica 95/46/ES (všeobecné nariadenie o ochrane údajov) v platnom znení (ďalej len „Nariadenie“). Vyhlásenie k spracúvaniu osobných údajov sa udeleľuje na dobu 10 rokov, ak všeobecne záväzné právne predpisy nestanovujú dlhšiu dobu. Ako dotknutá osoba beriem na vedomie možnosť poskytnutia osobných údajov Ministerstvu hospodárstva Slovenskej republiky a/alebo tretím osobám, ktoré poskytujú vykonávateľovi služby spôsobom, že bez prístupu k predmetným osobným údajom by sa dané služby nedali poskytovať. Ako dotknutá osoba svojím podpisom zároveň potvrdzujem poskytnutie informácií zo strany vykonávateľa v zmysle príslušných ustanovení Nariadenia.
A14: V: | E14: dňa:
A16: Podpis dotknutej osoby:
A18: 1 Vyhlásenie je potrebné predložiť za každú fyzickú osobu uvedenú v žiadosti
